BEGIN:VCALENDAR
VERSION:2.0
PRODID:-//Schio Sport - ECPv6.15.20//NONSGML v1.0//EN
CALSCALE:GREGORIAN
METHOD:PUBLISH
X-WR-CALNAME:Schio Sport
X-ORIGINAL-URL:https://www.schiosport.it
X-WR-CALDESC:Eventi per Schio Sport
REFRESH-INTERVAL;VALUE=DURATION:PT1H
X-Robots-Tag:noindex
X-PUBLISHED-TTL:PT1H
BEGIN:VTIMEZONE
TZID:Europe/Rome
BEGIN:DAYLIGHT
TZOFFSETFROM:+0100
TZOFFSETTO:+0200
TZNAME:CEST
DTSTART:20250330T010000
END:DAYLIGHT
BEGIN:STANDARD
TZOFFSETFROM:+0200
TZOFFSETTO:+0100
TZNAME:CET
DTSTART:20251026T010000
END:STANDARD
BEGIN:DAYLIGHT
TZOFFSETFROM:+0100
TZOFFSETTO:+0200
TZNAME:CEST
DTSTART:20260329T010000
END:DAYLIGHT
BEGIN:STANDARD
TZOFFSETFROM:+0200
TZOFFSETTO:+0100
TZNAME:CET
DTSTART:20261025T010000
END:STANDARD
BEGIN:DAYLIGHT
TZOFFSETFROM:+0100
TZOFFSETTO:+0200
TZNAME:CEST
DTSTART:20270328T010000
END:DAYLIGHT
BEGIN:STANDARD
TZOFFSETFROM:+0200
TZOFFSETTO:+0100
TZNAME:CET
DTSTART:20271031T010000
END:STANDARD
END:VTIMEZONE
BEGIN:VEVENT
DTSTART;TZID=Europe/Rome:20260430T203000
DTEND;TZID=Europe/Rome:20260430T223000
DTSTAMP:20260420T221532
CREATED:20260420T090457Z
LAST-MODIFIED:20260420T090457Z
UID:10613-1777581000-1777588200@www.schiosport.it
SUMMARY:Il Bene genera Bene (Documentario)
DESCRIPTION:“Il BENE GENERA BENE” non è solo un documentario \n  \nÈ un viaggio dentro la popolazione malgascia\, che racconta il Madagascar attraverso le persone. \n  \nNon solo paesaggi. \n  \nNon solo povertà. \n  \nMa dignità\, forza\, sogni e speranza. \n  \nRealizzato dalla Cestista Orange Giorgia Sottana e dal videomaker e content creator Andrea Pegoraro \n  \nLa campionessa Orange è entrata a far parte della famiglia Aid4Mada con il lancio del progetto Play4Mada\, e a giugno 2023 è stata per la prima volta a Tulear insieme ai volontari dell’associazione per inaugurare il loro nuovo centro sportivo\, in cui oggi oltre 20 giovani atleti si stanno avvicinando al basket professionistico. \n  \nCon questo straordinario progetto si è acceso un riflettore per provare a dare una possibilità di cambiamento\, perché raccontare le cose difficili apre uno spiraglio per poterle migliorare. \n  \nGiorgia e Andrea hanno fatto un lavoro immenso nel raccontare come Aid4Mada opera in Madagascar e l’impatto che sta creando per la popolazione locale\, facendoci immergere nella realtà locale \n  \n📆 TI ASPETTIAMO GIOVEDÌ 30 APRILE ALLE ORE 20:30 AL FABER BOX DI SCHIO PER LA PROIEZIONE! \n  \nINFO SU AID4MADA \n 
URL:https://www.schiosport.it/dettaglio-evento/il-bene-genera-bene-documentario/
LOCATION:Faber Box\, Viale Tito Livio\, 23-25\, Schio\, Vicenza\, 35015\, Italia
ATTACH;FMTTYPE=image/png:https://www.schiosport.it/wp-content/uploads/2026/04/aprile-2026-post-3.png
END:VEVENT
END:VCALENDAR